BEGIN:VCALENDAR
VERSION:2.0
PRODID:-//hacksw/handcal//NONSGML v1.0//EN
CALSCALE:GREGORIAN
BEGIN:VTIMEZONE
TZID:America/Chicago
BEGIN:DAYLIGHT
TZOFFSETFROM:-0600
TZNAME:MDT
TZOFFSETTO:-0600
END:DAYLIGHT
END:VTIMEZONE
DTSTAMP:20260421T003446Z
UID:69e70c7686658
BEGIN:VEVENT
DESCRIPTION:<p><span style="font-size:12.0pt"><span style="font-family:Aptos"><span style="color:black">Join us every Thursday morning to Color Our World with books, songs and activities that get your little one excited about reading.&nbsp;</span></span></span></p>

DTSTART;TZID=America/Chicago:20250724T100000
DTEND;TZID=America/Chicago:20250724T103000
SUMMARY:Family Story Time
URL;VALUE=URI:/family-story-time-36
END:VEVENT
END:VCALENDAR